BEGIN:VCALENDAR
VERSION:2.0
PRODID:-//MUSIKVEREIN KÜNZELL - ECPv6.15.20//NONSGML v1.0//EN
CALSCALE:GREGORIAN
METHOD:PUBLISH
X-WR-CALNAME:MUSIKVEREIN KÜNZELL
X-ORIGINAL-URL:https://www.musikverein-kuenzell.de
X-WR-CALDESC:Veranstaltungen für MUSIKVEREIN KÜNZELL
REFRESH-INTERVAL;VALUE=DURATION:PT1H
X-Robots-Tag:noindex
X-PUBLISHED-TTL:PT1H
BEGIN:VTIMEZONE
TZID:Europe/Helsinki
BEGIN:DAYLIGHT
TZOFFSETFROM:+0200
TZOFFSETTO:+0300
TZNAME:EEST
DTSTART:20210328T010000
END:DAYLIGHT
BEGIN:STANDARD
TZOFFSETFROM:+0300
TZOFFSETTO:+0200
TZNAME:EET
DTSTART:20211031T010000
END:STANDARD
BEGIN:DAYLIGHT
TZOFFSETFROM:+0200
TZOFFSETTO:+0300
TZNAME:EEST
DTSTART:20220327T010000
END:DAYLIGHT
BEGIN:STANDARD
TZOFFSETFROM:+0300
TZOFFSETTO:+0200
TZNAME:EET
DTSTART:20221030T010000
END:STANDARD
BEGIN:DAYLIGHT
TZOFFSETFROM:+0200
TZOFFSETTO:+0300
TZNAME:EEST
DTSTART:20230326T010000
END:DAYLIGHT
BEGIN:STANDARD
TZOFFSETFROM:+0300
TZOFFSETTO:+0200
TZNAME:EET
DTSTART:20231029T010000
END:STANDARD
END:VTIMEZONE
BEGIN:VEVENT
DTSTART;TZID=Europe/Helsinki:20221202T193000
DTEND;TZID=Europe/Helsinki:20221202T213000
DTSTAMP:20260426T052210
CREATED:20221108T204419Z
LAST-MODIFIED:20221108T204419Z
UID:1069-1670009400-1670016600@www.musikverein-kuenzell.de
SUMMARY:Probe
DESCRIPTION:
URL:https://www.musikverein-kuenzell.de/event/probe-5/
END:VEVENT
BEGIN:VEVENT
DTSTART;TZID=Europe/Helsinki:20221203T153000
DTEND;TZID=Europe/Helsinki:20221203T173000
DTSTAMP:20260426T052210
CREATED:20221108T205211Z
LAST-MODIFIED:20221108T205211Z
UID:1081-1670081400-1670088600@www.musikverein-kuenzell.de
SUMMARY:Weihnachtsmarkt in Künzell
DESCRIPTION:
URL:https://www.musikverein-kuenzell.de/event/weihnachtsmarkt-in-kuenzell/
END:VEVENT
BEGIN:VEVENT
DTSTART;TZID=Europe/Helsinki:20221204T160000
DTEND;TZID=Europe/Helsinki:20221204T180000
DTSTAMP:20260426T052210
CREATED:20221108T205315Z
LAST-MODIFIED:20221108T205315Z
UID:1084-1670169600-1670176800@www.musikverein-kuenzell.de
SUMMARY:Weihnachtsmarkt in Schlitz
DESCRIPTION:
URL:https://www.musikverein-kuenzell.de/event/weihnachtsmarkt-in-schlitz/
END:VEVENT
BEGIN:VEVENT
DTSTART;TZID=Europe/Helsinki:20221209T193000
DTEND;TZID=Europe/Helsinki:20221209T213000
DTSTAMP:20260426T052210
CREATED:20221108T204519Z
LAST-MODIFIED:20221108T204519Z
UID:1072-1670614200-1670621400@www.musikverein-kuenzell.de
SUMMARY:Probe
DESCRIPTION:
URL:https://www.musikverein-kuenzell.de/event/probe-6/
END:VEVENT
BEGIN:VEVENT
DTSTART;TZID=Europe/Helsinki:20221211T143000
DTEND;TZID=Europe/Helsinki:20221211T153000
DTSTAMP:20260426T052210
CREATED:20221108T205517Z
LAST-MODIFIED:20221108T205517Z
UID:1087-1670769000-1670772600@www.musikverein-kuenzell.de
SUMMARY:Weihnachtsmarkt in Fulda
DESCRIPTION:
URL:https://www.musikverein-kuenzell.de/event/weihnachtsmarkt-in-fulda/
END:VEVENT
BEGIN:VEVENT
DTSTART;TZID=Europe/Helsinki:20221216T193000
DTEND;TZID=Europe/Helsinki:20221216T213000
DTSTAMP:20260426T052210
CREATED:20221108T204816Z
LAST-MODIFIED:20221108T204816Z
UID:1075-1671219000-1671226200@www.musikverein-kuenzell.de
SUMMARY:Probe
DESCRIPTION:
URL:https://www.musikverein-kuenzell.de/event/probe-7/
END:VEVENT
BEGIN:VEVENT
DTSTART;TZID=Europe/Helsinki:20221223T193000
DTEND;TZID=Europe/Helsinki:20221223T213000
DTSTAMP:20260426T052210
CREATED:20221108T205032Z
LAST-MODIFIED:20221108T205032Z
UID:1078-1671823800-1671831000@www.musikverein-kuenzell.de
SUMMARY:Probe
DESCRIPTION:
URL:https://www.musikverein-kuenzell.de/event/probe-8/
END:VEVENT
BEGIN:VEVENT
DTSTART;TZID=Europe/Helsinki:20221224T160000
DTEND;TZID=Europe/Helsinki:20221224T183000
DTSTAMP:20260426T052210
CREATED:20221108T210654Z
LAST-MODIFIED:20221108T210654Z
UID:1093-1671897600-1671906600@www.musikverein-kuenzell.de
SUMMARY:Christmette St. Pius
DESCRIPTION:Wir spielen dort erst vor der Kirche und dann auch während dem Gottesdienst.
URL:https://www.musikverein-kuenzell.de/event/christmette-st-pius/
END:VEVENT
BEGIN:VEVENT
DTSTART;TZID=Europe/Helsinki:20221226T100000
DTEND;TZID=Europe/Helsinki:20221226T113000
DTSTAMP:20260426T052210
CREATED:20221108T210903Z
LAST-MODIFIED:20221108T210903Z
UID:1096-1672048800-1672054200@www.musikverein-kuenzell.de
SUMMARY:Spielen im Gottesdienst in St. Antonius
DESCRIPTION:
URL:https://www.musikverein-kuenzell.de/event/spielen-im-gottesdienst-in-st-antonius/
END:VEVENT
END:VCALENDAR