BEGIN:VCALENDAR
VERSION:2.0
PRODID:-//MUSIKVEREIN KÜNZELL - ECPv6.15.20//NONSGML v1.0//EN
CALSCALE:GREGORIAN
METHOD:PUBLISH
X-ORIGINAL-URL:https://www.musikverein-kuenzell.de
X-WR-CALDESC:Veranstaltungen für MUSIKVEREIN KÜNZELL
REFRESH-INTERVAL;VALUE=DURATION:PT1H
X-Robots-Tag:noindex
X-PUBLISHED-TTL:PT1H
BEGIN:VTIMEZONE
TZID:Europe/Helsinki
BEGIN:DAYLIGHT
TZOFFSETFROM:+0200
TZOFFSETTO:+0300
TZNAME:EEST
DTSTART:20210328T010000
END:DAYLIGHT
BEGIN:STANDARD
TZOFFSETFROM:+0300
TZOFFSETTO:+0200
TZNAME:EET
DTSTART:20211031T010000
END:STANDARD
BEGIN:DAYLIGHT
TZOFFSETFROM:+0200
TZOFFSETTO:+0300
TZNAME:EEST
DTSTART:20220327T010000
END:DAYLIGHT
BEGIN:STANDARD
TZOFFSETFROM:+0300
TZOFFSETTO:+0200
TZNAME:EET
DTSTART:20221030T010000
END:STANDARD
BEGIN:DAYLIGHT
TZOFFSETFROM:+0200
TZOFFSETTO:+0300
TZNAME:EEST
DTSTART:20230326T010000
END:DAYLIGHT
BEGIN:STANDARD
TZOFFSETFROM:+0300
TZOFFSETTO:+0200
TZNAME:EET
DTSTART:20231029T010000
END:STANDARD
END:VTIMEZONE
BEGIN:VEVENT
DTSTART;TZID=Europe/Helsinki:20221111T193000
DTEND;TZID=Europe/Helsinki:20221111T213000
DTSTAMP:20260426T041723
CREATED:20221108T203106Z
LAST-MODIFIED:20221108T203106Z
UID:1056-1668195000-1668202200@www.musikverein-kuenzell.de
SUMMARY:Probe
DESCRIPTION:
URL:https://www.musikverein-kuenzell.de/event/probe-2/
END:VEVENT
BEGIN:VEVENT
DTSTART;TZID=Europe/Helsinki:20221118T193000
DTEND;TZID=Europe/Helsinki:20221118T213000
DTSTAMP:20260426T041723
CREATED:20221108T204151Z
LAST-MODIFIED:20221108T204151Z
UID:1062-1668799800-1668807000@www.musikverein-kuenzell.de
SUMMARY:Probe
DESCRIPTION:
URL:https://www.musikverein-kuenzell.de/event/probe-3/
END:VEVENT
BEGIN:VEVENT
DTSTART;TZID=Europe/Helsinki:20221119T170000
DTEND;TZID=Europe/Helsinki:20221119T230000
DTSTAMP:20260426T041723
CREATED:20221108T203749Z
LAST-MODIFIED:20221108T203749Z
UID:1059-1668877200-1668898800@www.musikverein-kuenzell.de
SUMMARY:Nacht der offenen Kirchen
DESCRIPTION:
URL:https://www.musikverein-kuenzell.de/event/nacht-der-offenen-kirchen/
END:VEVENT
BEGIN:VEVENT
DTSTART;TZID=Europe/Helsinki:20221125T193000
DTEND;TZID=Europe/Helsinki:20221125T213000
DTSTAMP:20260426T041723
CREATED:20221108T204333Z
LAST-MODIFIED:20221108T204333Z
UID:1066-1669404600-1669411800@www.musikverein-kuenzell.de
SUMMARY:Probe
DESCRIPTION:
URL:https://www.musikverein-kuenzell.de/event/probe-4/
END:VEVENT
END:VCALENDAR