BEGIN:VCALENDAR
VERSION:2.0
PRODID:-//MUSIKVEREIN KÜNZELL - ECPv6.15.20//NONSGML v1.0//EN
CALSCALE:GREGORIAN
METHOD:PUBLISH
X-ORIGINAL-URL:https://www.musikverein-kuenzell.de
X-WR-CALDESC:Veranstaltungen für MUSIKVEREIN KÜNZELL
REFRESH-INTERVAL;VALUE=DURATION:PT1H
X-Robots-Tag:noindex
X-PUBLISHED-TTL:PT1H
BEGIN:VTIMEZONE
TZID:Europe/Helsinki
BEGIN:DAYLIGHT
TZOFFSETFROM:+0200
TZOFFSETTO:+0300
TZNAME:EEST
DTSTART:20210328T010000
END:DAYLIGHT
BEGIN:STANDARD
TZOFFSETFROM:+0300
TZOFFSETTO:+0200
TZNAME:EET
DTSTART:20211031T010000
END:STANDARD
BEGIN:DAYLIGHT
TZOFFSETFROM:+0200
TZOFFSETTO:+0300
TZNAME:EEST
DTSTART:20220327T010000
END:DAYLIGHT
BEGIN:STANDARD
TZOFFSETFROM:+0300
TZOFFSETTO:+0200
TZNAME:EET
DTSTART:20221030T010000
END:STANDARD
BEGIN:DAYLIGHT
TZOFFSETFROM:+0200
TZOFFSETTO:+0300
TZNAME:EEST
DTSTART:20230326T010000
END:DAYLIGHT
BEGIN:STANDARD
TZOFFSETFROM:+0300
TZOFFSETTO:+0200
TZNAME:EET
DTSTART:20231029T010000
END:STANDARD
END:VTIMEZONE
BEGIN:VEVENT
DTSTART;TZID=Europe/Helsinki:20220626T163000
DTEND;TZID=Europe/Helsinki:20220626T183000
DTSTAMP:20260425T215029
CREATED:20220620T213149Z
LAST-MODIFIED:20220620T213149Z
UID:988-1656261000-1656268200@www.musikverein-kuenzell.de
SUMMARY:Unterhaltung am Noppenfest
DESCRIPTION:
URL:https://www.musikverein-kuenzell.de/event/unterhaltung-am-noppenfest/
END:VEVENT
END:VCALENDAR